BEGIN:VCALENDAR
VERSION:2.0
PRODID:icalendar-ruby
CALSCALE:GREGORIAN
BEGIN:VEVENT
DTSTAMP:20260422T131318Z
UID:efe712b0-14c1-48ef-973e-9b2f80054446
DTSTART;VALUE=DATE:20260513
DESCRIPTION:Property ID# 606808\, Locatoin: In Rooms at Ray White Manukau O
 ffice\, Time: 12:00PM
SUMMARY:Auction for 37 Chieftain Rise
END:VEVENT
END:VCALENDAR
