BEGIN:VCALENDAR
VERSION:2.0
PRODID:icalendar-ruby
CALSCALE:GREGORIAN
BEGIN:VEVENT
DTSTAMP:20260422T131710Z
UID:8a2ed5c4-aacc-4d7f-a5e9-605309a2fe39
DTSTART;VALUE=DATE:20260422
DESCRIPTION:Property ID# 606112\, Locatoin: In Rooms at Ray White Manukau O
 ffice\, Time: 11:00AM
SUMMARY:Auction for 6/436 Great South Road
END:VEVENT
END:VCALENDAR
