BEGIN:VCALENDAR
VERSION:2.0
PRODID:icalendar-ruby
CALSCALE:GREGORIAN
BEGIN:VEVENT
DTSTAMP:20260422T132230Z
UID:662ce659-71e9-42ae-931a-89f3602ec489
DTSTART;VALUE=DATE:20260128
DESCRIPTION:Property ID# 601604\, Locatoin: In Rooms at Ray White Manukau O
 ffice\, Time: 12:00PM
SUMMARY:Auction for 
END:VEVENT
END:VCALENDAR
