BEGIN:VCALENDAR
VERSION:2.0
PRODID:icalendar-ruby
CALSCALE:GREGORIAN
BEGIN:VEVENT
DTSTAMP:20260422T132425Z
UID:462c0b41-6248-48b9-9b31-9b6eec12a9b0
DTSTART;VALUE=DATE:20251210
DESCRIPTION:Property ID# 600903\, Locatoin: In Rooms at Ray White Manukau (
 unless sold prior) \, Time: 10:00AM
SUMMARY:Auction for 
END:VEVENT
END:VCALENDAR
