BEGIN:VCALENDAR
VERSION:2.0
PRODID:icalendar-ruby
CALSCALE:GREGORIAN
BEGIN:VEVENT
DTSTAMP:20260421T094202Z
UID:b42a9fc6-f802-4e97-8ef3-41480cb7628a
DTSTART;VALUE=DATE:20201006
DESCRIPTION:Property ID# 490644\, Locatoin: Inrooms\, 13/77 St. George Stre
 et\, Papatoetoe\, Time: 6:00PM
SUMMARY:Auction for 
END:VEVENT
END:VCALENDAR
