BEGIN:VCALENDAR
VERSION:2.0
PRODID:icalendar-ruby
CALSCALE:GREGORIAN
BEGIN:VEVENT
DTSTAMP:20260423T093602Z
UID:e6ca41af-d5d2-4362-b853-278e93cc6ba4
DTSTART;VALUE=DATE:20200920
DESCRIPTION:Property ID# 486960\, Locatoin: on site\, Time: 1:00PM
SUMMARY:Auction for 
END:VEVENT
END:VCALENDAR
