BEGIN:VCALENDAR
VERSION:2.0
PRODID:icalendar-ruby
CALSCALE:GREGORIAN
BEGIN:VEVENT
DTSTAMP:20210119T034037Z
UID:88ce8b04-7793-4efb-a8db-58c67eaec48b
DTSTART;TZID=Pacific/Auckland:20210120T180000
DTEND;TZID=Pacific/Auckland:20210120T183000
DESCRIPTION:Property ID# 499639
SUMMARY:Openhome for 48 Gray Avenue
END:VEVENT
END:VCALENDAR
