BEGIN:VCALENDAR
VERSION:2.0
PRODID:icalendar-ruby
CALSCALE:GREGORIAN
BEGIN:VEVENT
DTSTAMP:20210119T034030Z
UID:dfe8c23e-36c9-4010-89ec-e07d774b2751
DTSTART;TZID=Pacific/Auckland:20210119T183000
DTEND;TZID=Pacific/Auckland:20210119T190000
DESCRIPTION:Property ID# 498992
SUMMARY:Openhome for 14 Shayla Place
END:VEVENT
END:VCALENDAR
