BEGIN:VCALENDAR
VERSION:2.0
PRODID:icalendar-ruby
CALSCALE:GREGORIAN
BEGIN:VEVENT
DTSTAMP:20210119T034045Z
UID:fe45d4f9-d622-444e-9fc9-830854a722de
DTSTART;TZID=Pacific/Auckland:20210117T120000
DTEND;TZID=Pacific/Auckland:20210117T124500
DESCRIPTION:Property ID# 499640
SUMMARY:Openhome for 15 Sandwick Drive
END:VEVENT
END:VCALENDAR
