BEGIN:VCALENDAR
VERSION:2.0
PRODID:icalendar-ruby
CALSCALE:GREGORIAN
BEGIN:VEVENT
DTSTAMP:20210119T034915Z
UID:29659386-fa59-495f-b206-aa64613d7fbb
DTSTART;TZID=Pacific/Auckland:20210117T123000
DTEND;TZID=Pacific/Auckland:20210117T130000
DESCRIPTION:Property ID# 497795
SUMMARY:Openhome for 1069 Scenic Drive North
END:VEVENT
END:VCALENDAR
