BEGIN:VCALENDAR
VERSION:2.0
PRODID:icalendar-ruby
CALSCALE:GREGORIAN
BEGIN:VEVENT
DTSTAMP:20210119T034053Z
UID:3ecb5c22-4111-4759-b9fe-538abe62935d
DTSTART;VALUE=DATE:20210207
DESCRIPTION:Property ID# 499645\, Locatoin: On Site\, Time: 2:30PM
SUMMARY:Auction for 21a Bledisloe Street
END:VEVENT
END:VCALENDAR
