BEGIN:VCALENDAR
VERSION:2.0
PRODID:icalendar-ruby
CALSCALE:GREGORIAN
BEGIN:VEVENT
DTSTAMP:20210119T034049Z
UID:0157a867-872a-4281-94df-210ad79d057d
DTSTART;VALUE=DATE:20210207
DESCRIPTION:Property ID# 499644\, Time: 2:30PM
SUMMARY:Auction for 21 Bledisloe Street
END:VEVENT
END:VCALENDAR
