BEGIN:VCALENDAR
VERSION:2.0
PRODID:icalendar-ruby
CALSCALE:GREGORIAN
BEGIN:VEVENT
DTSTAMP:20210119T034046Z
UID:c65518ed-04d4-4eb6-bdde-fffa62a1149b
DTSTART;VALUE=DATE:20210131
DESCRIPTION:Property ID# 499640\, Time: 4:30PM
SUMMARY:Auction for 15 Sandwick Drive
END:VEVENT
END:VCALENDAR
