BEGIN:VCALENDAR
VERSION:2.0
PRODID:icalendar-ruby
CALSCALE:GREGORIAN
BEGIN:VEVENT
DTSTAMP:20210119T034040Z
UID:263ec273-1979-49ea-b111-6c6b2216c612
DTSTART;VALUE=DATE:20210213
DESCRIPTION:Property ID# 499639\, Time: 12:00PM
SUMMARY:Auction for 48 Gray Avenue
END:VEVENT
END:VCALENDAR
