BEGIN:VCALENDAR
VERSION:2.0
PRODID:icalendar-ruby
CALSCALE:GREGORIAN
BEGIN:VEVENT
DTSTAMP:20210119T034901Z
UID:e4aed0c0-bb6f-4f02-98aa-ad69ce953880
DTSTART;VALUE=DATE:20201210
DESCRIPTION:Property ID# 496328\, Locatoin: In Rooms\, Ray White Manukau\, 
 level 2 Van den Brink Bldg\, 652 Great South Road Manukau\, Time: 5:00PM
SUMMARY:Auction for 
END:VEVENT
END:VCALENDAR
