BEGIN:VCALENDAR
VERSION:2.0
PRODID:icalendar-ruby
CALSCALE:GREGORIAN
BEGIN:VEVENT
DTSTAMP:20210119T034904Z
UID:04b412b6-b1c1-4979-aca3-8eff5cde5cc0
DTSTART;VALUE=DATE:20201126
DESCRIPTION:Property ID# 494678\, Locatoin: In Rooms\, Ray White Manukau\, 
 level 2 Van den Brink Bldg\, 652 Great South Road Manukau\, Time: 5:00PM
SUMMARY:Auction for 
END:VEVENT
END:VCALENDAR
