BEGIN:VCALENDAR
VERSION:2.0
PRODID:icalendar-ruby
CALSCALE:GREGORIAN
BEGIN:VEVENT
DTSTAMP:20210119T034905Z
UID:5f58efc0-cf12-4598-9465-f16d147c1d59
DTSTART;VALUE=DATE:20201021
DESCRIPTION:Property ID# 491425\, Locatoin: On Site\, Time: 1:00PM
SUMMARY:Auction for 
END:VEVENT
END:VCALENDAR
