BEGIN:VCALENDAR
VERSION:2.0
PRODID:icalendar-ruby
CALSCALE:GREGORIAN
BEGIN:VEVENT
DTSTAMP:20210119T034923Z
UID:e3d403e4-ea07-4491-a177-e7694192d74f
DTSTART;VALUE=DATE:20201205
DESCRIPTION:Property ID# 490818\, Locatoin: On Site\, Time: 2:30PM
SUMMARY:Auction for 
END:VEVENT
END:VCALENDAR
