BEGIN:VCALENDAR
VERSION:2.0
PRODID:icalendar-ruby
CALSCALE:GREGORIAN
BEGIN:VEVENT
DTSTAMP:20210119T034938Z
UID:bcd6d885-da76-4021-839d-f2a6bf40cb66
DTSTART;VALUE=DATE:20201008
DESCRIPTION:Property ID# 490242\, Locatoin: RayWhite Papatetoe 66 Great Sou
 th Road Papatoetoe\, Time: 4:00PM
SUMMARY:Auction for 
END:VEVENT
END:VCALENDAR
