BEGIN:VCALENDAR
VERSION:2.0
PRODID:icalendar-ruby
CALSCALE:GREGORIAN
BEGIN:VEVENT
DTSTAMP:20210119T034907Z
UID:6696e912-c3a8-499c-8939-a8168f160889
DTSTART;VALUE=DATE:20201001
DESCRIPTION:Property ID# 489660\, Locatoin: In Rooms\, Ray White Manukau\, 
 652 Great South Road\, Level 2 Van Den Brink Building (above westpac)\, Ti
 me: 6:00PM
SUMMARY:Auction for 
END:VEVENT
END:VCALENDAR
