BEGIN:VCALENDAR
VERSION:2.0
PRODID:icalendar-ruby
CALSCALE:GREGORIAN
BEGIN:VEVENT
DTSTAMP:20210119T034925Z
UID:383199bc-a626-4316-ba86-f85a273d9e07
DTSTART;VALUE=DATE:20200926
DESCRIPTION:Property ID# 489213\, Locatoin: On Site\, Time: 1:30PM
SUMMARY:Auction for 
END:VEVENT
END:VCALENDAR
