BEGIN:VCALENDAR
VERSION:2.0
PRODID:icalendar-ruby
CALSCALE:GREGORIAN
BEGIN:VEVENT
DTSTAMP:20210119T034909Z
UID:1ee603b8-e218-4852-895a-4e2beb744153
DTSTART;VALUE=DATE:20200820
DESCRIPTION:Property ID# 485867\, Locatoin: In Rooms\, Ray White Manukau\, 
 level 2 Van den Brink Bldg\, 652 Great South Road Manukau\, Time: 6:00PM
SUMMARY:Auction for 
END:VEVENT
END:VCALENDAR
